BEGIN:VCALENDAR
VERSION:2.0
PRODID:-//wp-events-plugin.com//7.2.3.1//EN
TZID:Europe/London
X-WR-TIMEZONE:Europe/London
BEGIN:VEVENT
UID:2421@morayroadrunners.com
DTSTART;TZID=Europe/London;VALUE=DATE:20220805
DTEND;TZID=Europe/London;VALUE=DATE:20220808
DTSTAMP:20220510T182505Z
URL:https://morayroadrunners.com/events/cairngorms-trail-race-festival/
SUMMARY:Cairngorms Trail Race Festival
DESCRIPTION:Information and Entry
CATEGORIES:Trail Running
LOCATION:Blair Castle\, Blair Atholl\, Pitlochry\, PH18 5TL\, Scotland
X-APPLE-STRUCTURED-LOCATION;VALUE=URI;X-ADDRESS=Blair Atholl\, Pitlochry\, 
 PH18 5TL\, Scotland;X-APPLE-RADIUS=100;X-TITLE=Blair Castle:geo:0,0
END:VEVENT
BEGIN:VTIMEZONE
TZID:Europe/London
X-LIC-LOCATION:Europe/London
BEGIN:DAYLIGHT
DTSTART:20220327T020000
TZOFFSETFROM:+0000
TZOFFSETTO:+0100
TZNAME:BST
END:DAYLIGHT
END:VTIMEZONE
END:VCALENDAR