BEGIN:VCALENDAR
VERSION:2.0
PRODID:-//wp-events-plugin.com//7.2.3.1//EN
TZID:Europe/London
X-WR-TIMEZONE:Europe/London
BEGIN:VEVENT
UID:1273@morayroadrunners.com
DTSTART;TZID=Europe/London:20240807T180000
DTEND;TZID=Europe/London:20240807T200000
DTSTAMP:20240713T132146Z
URL:https://morayroadrunners.com/events/califer-view-point-challenge-2/
SUMMARY:Califer View Point Challenge
DESCRIPTION:\nForres Harriers are putting on the Viewpoint Challenge on Wed
 nesday 7th August\, with registration and race start in Grant Park.\n\n\nT
 he race will start at 6.30pm and it's the usual course\, 3.5 miles uphill.
 \n\n\nThe race is open to 12 years and upwards.\n
CATEGORIES:Road Running
LOCATION:Grant Park\, Victoria Road\, Forres\, Scotland
GEO:57.6138456;-3.6012929999999415
X-APPLE-STRUCTURED-LOCATION;VALUE=URI;X-ADDRESS=Victoria Road\, Forres\, Sc
 otland;X-APPLE-RADIUS=100;X-TITLE=Grant Park:geo:57.6138456,-3.60129299999
 99415
END:VEVENT
BEGIN:VTIMEZONE
TZID:Europe/London
X-LIC-LOCATION:Europe/London
BEGIN:DAYLIGHT
DTSTART:20240331T020000
TZOFFSETFROM:+0000
TZOFFSETTO:+0100
TZNAME:BST
END:DAYLIGHT
END:VTIMEZONE
END:VCALENDAR