BEGIN:VCALENDAR
VERSION:2.0
PRODID:-//wp-events-plugin.com//7.2.3.1//EN
TZID:Europe/London
X-WR-TIMEZONE:Europe/London
BEGIN:VEVENT
UID:997@morayroadrunners.com
DTSTART;TZID=Europe/London:20180527T120000
DTEND;TZID=Europe/London:20180527T170000
DTSTAMP:20180213T184130Z
URL:https://morayroadrunners.com/events/castle-of-mey-10km-3/
SUMMARY:Castle of Mey 10km
DESCRIPTION:Entry
CATEGORIES:Road Running
LOCATION:Castle of Mey\, Mey\, Thurso\, KW14 8XH\, Scotland
GEO:58.63700550000001;-3.2285930000000462
X-APPLE-STRUCTURED-LOCATION;VALUE=URI;X-ADDRESS=Mey\, Thurso\, KW14 8XH\, S
 cotland;X-APPLE-RADIUS=100;X-TITLE=Castle of Mey:geo:58.63700550000001,-3.
 2285930000000462
END:VEVENT
BEGIN:VTIMEZONE
TZID:Europe/London
X-LIC-LOCATION:Europe/London
BEGIN:DAYLIGHT
DTSTART:20180325T020000
TZOFFSETFROM:+0000
TZOFFSETTO:+0100
TZNAME:BST
END:DAYLIGHT
END:VTIMEZONE
END:VCALENDAR