BEGIN:VCALENDAR
VERSION:2.0
PRODID:-//wp-events-plugin.com//7.2.3.1//EN
TZID:Europe/London
X-WR-TIMEZONE:Europe/London
BEGIN:VEVENT
UID:1244@morayroadrunners.com
DTSTART;TZID=Europe/London:20190714T090000
DTEND;TZID=Europe/London:20190714T160000
DTSTAMP:20190411T164736Z
URL:https://morayroadrunners.com/events/chapelton-of-elsick-10k/
SUMMARY:Chapelton of Elsick 10k
DESCRIPTION:10K Registration: Will take place from 09:00 - 10:30am Chapelt
 on Cabin\, Greenlaw Road\, Chapelton.  All pre-entered runners must regis
 ter on the day to collect their race number.  Chapelton is located on the
  opposite side of the A92 from Newtonhill.\n\nEntry and Information\n\n&nb
 sp\;
CATEGORIES:Road Running
LOCATION:Chapelton Cabin\, Hume Square\, Chapelton of Elsick\, AB39 8AE\, S
 cotland
X-APPLE-STRUCTURED-LOCATION;VALUE=URI;X-ADDRESS=Hume Square\, Chapelton of 
 Elsick\, AB39 8AE\, Scotland;X-APPLE-RADIUS=100;X-TITLE=Chapelton Cabin:ge
 o:0,0
END:VEVENT
BEGIN:VTIMEZONE
TZID:Europe/London
X-LIC-LOCATION:Europe/London
BEGIN:DAYLIGHT
DTSTART:20190331T020000
TZOFFSETFROM:+0000
TZOFFSETTO:+0100
TZNAME:BST
END:DAYLIGHT
END:VTIMEZONE
END:VCALENDAR