BEGIN:VCALENDAR
VERSION:2.0
PRODID:-//wp-events-plugin.com//7.2.3.1//EN
TZID:Europe/London
X-WR-TIMEZONE:Europe/London
BEGIN:VEVENT
UID:4030@morayroadrunners.com
DTSTART;TZID=Europe/London:20270404T073000
DTEND;TZID=Europe/London:20270404T133000
DTSTAMP:20260408T204552Z
URL:https://morayroadrunners.com/events/chilled-20-mile-road-race/
SUMMARY:Moray Marathon & Chilled 20 Mile Road Race
DESCRIPTION:Information and Entry
CATEGORIES:Road Running
LOCATION:Morriston Park Track\, Morriston Park\, Elgin\, Scotland
GEO:57.64945400000001;-3.3184850000000097
X-APPLE-STRUCTURED-LOCATION;VALUE=URI;X-ADDRESS=Morriston Park\, Elgin\, Sc
 otland;X-APPLE-RADIUS=100;X-TITLE=Morriston Park Track:geo:57.649454000000
 01,-3.3184850000000097
END:VEVENT
BEGIN:VTIMEZONE
TZID:Europe/London
X-LIC-LOCATION:Europe/London
BEGIN:DAYLIGHT
DTSTART:20270328T020000
TZOFFSETFROM:+0000
TZOFFSETTO:+0100
TZNAME:BST
END:DAYLIGHT
END:VTIMEZONE
END:VCALENDAR