BEGIN:VCALENDAR
VERSION:2.0
PRODID:-//wp-events-plugin.com//7.2.3.1//EN
TZID:Europe/London
X-WR-TIMEZONE:Europe/London
BEGIN:VEVENT
UID:1222@morayroadrunners.com
DTSTART;TZID=Europe/London:20190323T100000
DTEND;TZID=Europe/London:20190323T150000
DTSTAMP:20190305T182122Z
URL:https://morayroadrunners.com/events/cioch-mhor-hill-race-2/
SUMMARY:Cioch Mhor Hill Race
DESCRIPTION:Information
CATEGORIES:Hill Races
LOCATION:Dingwall Leisure Centre\, Tulloch Avenue\, Dingwall\, IV15 9LT\, S
 cotland
GEO:57.6028769;-4.429739100000006
X-APPLE-STRUCTURED-LOCATION;VALUE=URI;X-ADDRESS=Tulloch Avenue\, Dingwall\,
  IV15 9LT\, Scotland;X-APPLE-RADIUS=100;X-TITLE=Dingwall Leisure Centre:ge
 o:57.6028769,-4.429739100000006
END:VEVENT
BEGIN:VTIMEZONE
TZID:Europe/London
X-LIC-LOCATION:Europe/London
BEGIN:STANDARD
DTSTART:20181028T010000
TZOFFSETFROM:+0100
TZOFFSETTO:+0000
TZNAME:GMT
END:STANDARD
END:VTIMEZONE
END:VCALENDAR