BEGIN:VCALENDAR
VERSION:2.0
PRODID:-//wp-events-plugin.com//7.2.3.1//EN
TZID:Europe/London
X-WR-TIMEZONE:Europe/London
BEGIN:VEVENT
UID:4415@morayroadrunners.com
DTSTART;TZID=Europe/London:20260718T090000
DTEND;TZID=Europe/London:20260718T140000
DTSTAMP:20260330T180402Z
URL:https://morayroadrunners.com/events/city-of-aberdeen-half-marathon/
SUMMARY:City of Aberdeen Half Marathon
DESCRIPTION:Entry and Information
CATEGORIES:Road Running
LOCATION:Duthie Park\, Polmuir Road\, Aberdeen\, AB11 7TH\, Scotland
GEO:57.132605;-2.1014380999999958
X-APPLE-STRUCTURED-LOCATION;VALUE=URI;X-ADDRESS=Polmuir Road\, Aberdeen\, A
 B11 7TH\, Scotland;X-APPLE-RADIUS=100;X-TITLE=Duthie Park:geo:57.132605,-2
 .1014380999999958
END:VEVENT
BEGIN:VTIMEZONE
TZID:Europe/London
X-LIC-LOCATION:Europe/London
BEGIN:DAYLIGHT
DTSTART:20260329T020000
TZOFFSETFROM:+0000
TZOFFSETTO:+0100
TZNAME:BST
END:DAYLIGHT
END:VTIMEZONE
END:VCALENDAR