BEGIN:VCALENDAR
VERSION:2.0
PRODID:-//wp-events-plugin.com//7.2.3.1//EN
TZID:Europe/London
X-WR-TIMEZONE:Europe/London
BEGIN:VEVENT
UID:1002@morayroadrunners.com
DTSTART;TZID=Europe/London:20180414T120000
DTEND;TZID=Europe/London:20180414T170000
DTSTAMP:20180304T102215Z
URL:https://morayroadrunners.com/events/clachnaben-hill-race-2/
SUMMARY:Clachnaben Hill Race
DESCRIPTION:Information
CATEGORIES:Hill Races
LOCATION:Clachnaben\, By Strachan\, South Deeside\, Aberdeenshire\, Scotlan
 d
GEO:56.49067119999999;-4.2026458000000275
X-APPLE-STRUCTURED-LOCATION;VALUE=URI;X-ADDRESS=By Strachan\, South Deeside
 \, Aberdeenshire\, Scotland;X-APPLE-RADIUS=100;X-TITLE=Clachnaben:geo:56.4
 9067119999999,-4.2026458000000275
END:VEVENT
BEGIN:VTIMEZONE
TZID:Europe/London
X-LIC-LOCATION:Europe/London
BEGIN:DAYLIGHT
DTSTART:20180325T020000
TZOFFSETFROM:+0000
TZOFFSETTO:+0100
TZNAME:BST
END:DAYLIGHT
END:VTIMEZONE
END:VCALENDAR