BEGIN:VCALENDAR
VERSION:2.0
PRODID:-//wp-events-plugin.com//7.2.3.1//EN
TZID:Europe/London
X-WR-TIMEZONE:Europe/London
BEGIN:VEVENT
UID:1251@morayroadrunners.com
DTSTART;TZID=Europe/London:20190601T100000
DTEND;TZID=Europe/London:20190601T170000
DTSTAMP:20190520T171140Z
URL:https://morayroadrunners.com/events/cornhill-highland-games-races-2/
SUMMARY:Cornhill Highland Games Races
DESCRIPTION:Information
CATEGORIES:Road Running
LOCATION:Highland Games\, Cornhill\, Banff\, Scotland
GEO:57.61206499999999;-2.698090900000011
X-APPLE-STRUCTURED-LOCATION;VALUE=URI;X-ADDRESS=Cornhill\, Banff\, Scotland
 ;X-APPLE-RADIUS=100;X-TITLE=Highland Games:geo:57.61206499999999,-2.698090
 900000011
END:VEVENT
BEGIN:VTIMEZONE
TZID:Europe/London
X-LIC-LOCATION:Europe/London
BEGIN:DAYLIGHT
DTSTART:20190331T020000
TZOFFSETFROM:+0000
TZOFFSETTO:+0100
TZNAME:BST
END:DAYLIGHT
END:VTIMEZONE
END:VCALENDAR