BEGIN:VCALENDAR
VERSION:2.0
PRODID:-//wp-events-plugin.com//7.2.3.1//EN
TZID:Europe/London
X-WR-TIMEZONE:Europe/London
BEGIN:VEVENT
UID:4416@morayroadrunners.com
DTSTART;TZID=Europe/London:20260712T100000
DTEND;TZID=Europe/London:20260712T140000
DTSTAMP:20260405T211257Z
URL:https://morayroadrunners.com/events/crieff-10k/
SUMMARY:Crieff 10k
DESCRIPTION:Entry and Information
CATEGORIES:Trail Running
END:VEVENT
BEGIN:VTIMEZONE
TZID:Europe/London
X-LIC-LOCATION:Europe/London
BEGIN:DAYLIGHT
DTSTART:20260329T020000
TZOFFSETFROM:+0000
TZOFFSETTO:+0100
TZNAME:BST
END:DAYLIGHT
END:VTIMEZONE
END:VCALENDAR