BEGIN:VCALENDAR
VERSION:2.0
PRODID:-//wp-events-plugin.com//7.2.3.1//EN
TZID:Europe/London
X-WR-TIMEZONE:Europe/London
BEGIN:VEVENT
UID:1114@morayroadrunners.com
DTSTART;TZID=Europe/London:20250907T103000
DTEND;TZID=Europe/London:20250907T150000
DTSTAMP:20250518T190721Z
URL:https://morayroadrunners.com/events/crimond-run-fest/
SUMMARY:Crimond Run Fest
DESCRIPTION:Entry and Information
CATEGORIES:Road Running
LOCATION:Crimond Village Hall\, Logie Road East\, Crimond\, Aberdeenshire\,
  Scotland
GEO:57.6011272;-1.9137133000000404
X-APPLE-STRUCTURED-LOCATION;VALUE=URI;X-ADDRESS=Logie Road East\, Crimond\,
  Aberdeenshire\, Scotland;X-APPLE-RADIUS=100;X-TITLE=Crimond Village Hall:
 geo:57.6011272,-1.9137133000000404
END:VEVENT
BEGIN:VTIMEZONE
TZID:Europe/London
X-LIC-LOCATION:Europe/London
BEGIN:DAYLIGHT
DTSTART:20250330T020000
TZOFFSETFROM:+0000
TZOFFSETTO:+0100
TZNAME:BST
END:DAYLIGHT
END:VTIMEZONE
END:VCALENDAR