BEGIN:VCALENDAR
VERSION:2.0
PRODID:-//wp-events-plugin.com//7.2.3.1//EN
TZID:Europe/London
X-WR-TIMEZONE:Europe/London
BEGIN:VEVENT
UID:1046@morayroadrunners.com
DTSTART;TZID=Europe/London:20180523T181500
DTEND;TZID=Europe/London:20180523T200000
DTSTAMP:20180403T213751Z
URL:https://morayroadrunners.com/events/culbin-forest-run-4/
SUMMARY:Culbin Forest Run
DESCRIPTION:Registration 6:15pm\n\n&nbsp\;
CATEGORIES:Trail Running
LOCATION:Wellhill Car Park\, Culbin\, Kintessack\, Scotland
GEO:57.65;-3.6666666999999507
X-APPLE-STRUCTURED-LOCATION;VALUE=URI;X-ADDRESS=Culbin\, Kintessack\, Scotl
 and;X-APPLE-RADIUS=100;X-TITLE=Wellhill Car Park:geo:57.65,-3.666666699999
 9507
END:VEVENT
BEGIN:VTIMEZONE
TZID:Europe/London
X-LIC-LOCATION:Europe/London
BEGIN:DAYLIGHT
DTSTART:20180325T020000
TZOFFSETFROM:+0000
TZOFFSETTO:+0100
TZNAME:BST
END:DAYLIGHT
END:VTIMEZONE
END:VCALENDAR