BEGIN:VCALENDAR
VERSION:2.0
PRODID:-//wp-events-plugin.com//7.2.3.1//EN
TZID:Europe/London
X-WR-TIMEZONE:Europe/London
BEGIN:VEVENT
UID:4279@morayroadrunners.com
DTSTART;TZID=Europe/London:20260425T093000
DTEND;TZID=Europe/London:20260425T130000
DTSTAMP:20260308T222738Z
URL:https://morayroadrunners.com/events/dallas-dash-2/
SUMMARY:Dallas Dash
DESCRIPTION:
CATEGORIES:Road Running
LOCATION:Houldsworth Institute\, Dallas Village Hall\, Dallas\, Scotland
X-APPLE-STRUCTURED-LOCATION;VALUE=URI;X-ADDRESS=Dallas Village Hall\, Dalla
 s\, Scotland;X-APPLE-RADIUS=100;X-TITLE=Houldsworth Institute:geo:0,0
END:VEVENT
BEGIN:VTIMEZONE
TZID:Europe/London
X-LIC-LOCATION:Europe/London
BEGIN:DAYLIGHT
DTSTART:20260329T020000
TZOFFSETFROM:+0000
TZOFFSETTO:+0100
TZNAME:BST
END:DAYLIGHT
END:VTIMEZONE
END:VCALENDAR