BEGIN:VCALENDAR
VERSION:2.0
PRODID:-//wp-events-plugin.com//7.2.3.1//EN
TZID:Europe/London
X-WR-TIMEZONE:Europe/London
BEGIN:VEVENT
UID:2208@morayroadrunners.com
DTSTART;TZID=Europe/London;VALUE=DATE:20261107
DTEND;TZID=Europe/London;VALUE=DATE:20261108
DTSTAMP:20251210T214612Z
URL:https://morayroadrunners.com/events/dava-way-50km/
SUMMARY:Dava Way 50km
DESCRIPTION:Information
CATEGORIES:Ultra Running
END:VEVENT
BEGIN:VTIMEZONE
TZID:Europe/London
X-LIC-LOCATION:Europe/London
BEGIN:STANDARD
DTSTART:20261025T010000
TZOFFSETFROM:+0100
TZOFFSETTO:+0000
TZNAME:GMT
END:STANDARD
END:VTIMEZONE
END:VCALENDAR