BEGIN:VCALENDAR
VERSION:2.0
PRODID:-//wp-events-plugin.com//7.2.3.1//EN
TZID:Europe/London
X-WR-TIMEZONE:Europe/London
BEGIN:VEVENT
UID:3199@morayroadrunners.com
DTSTART;TZID=Europe/London:20240811T090000
DTEND;TZID=Europe/London:20240811T150000
DTSTAMP:20240526T130924Z
URL:https://morayroadrunners.com/events/deveron-valley-half-marathon-10k-5
 k-1k/
SUMMARY:Deveron Valley Half Marathon/10k/5k/1k
DESCRIPTION:Information and Entry
CATEGORIES:Road Running
LOCATION:Duff House Rugby Club Pavillion\, Duff House\, Banff\, Scotland
X-APPLE-STRUCTURED-LOCATION;VALUE=URI;X-ADDRESS=Duff House\, Banff\, Scotla
 nd;X-APPLE-RADIUS=100;X-TITLE=Duff House Rugby Club Pavillion:geo:0,0
END:VEVENT
BEGIN:VTIMEZONE
TZID:Europe/London
X-LIC-LOCATION:Europe/London
BEGIN:DAYLIGHT
DTSTART:20240331T020000
TZOFFSETFROM:+0000
TZOFFSETTO:+0100
TZNAME:BST
END:DAYLIGHT
END:VTIMEZONE
END:VCALENDAR