BEGIN:VCALENDAR
VERSION:2.0
PRODID:-//wp-events-plugin.com//7.2.3.1//EN
TZID:Europe/London
X-WR-TIMEZONE:Europe/London
BEGIN:VEVENT
UID:2422@morayroadrunners.com
DTSTART;TZID=Europe/London:20250426T060000
DTEND;TZID=Europe/London:20250426T180000
DTSTAMP:20240917T210320Z
URL:https://morayroadrunners.com/events/devil-o-the-highlands-footrace-4/
SUMMARY:Devil o' the Highlands Footrace
DESCRIPTION:Information
CATEGORIES:Ultra Running
LOCATION:Green Welly Stop\, Tyndrum\, Fort William\, FK20 8RY\, United King
 dom
GEO:56.4361614;-4.711598900000013
X-APPLE-STRUCTURED-LOCATION;VALUE=URI;X-ADDRESS=Tyndrum\, Fort William\, FK
 20 8RY\, United Kingdom;X-APPLE-RADIUS=100;X-TITLE=Green Welly Stop:geo:56
 .4361614,-4.711598900000013
END:VEVENT
BEGIN:VTIMEZONE
TZID:Europe/London
X-LIC-LOCATION:Europe/London
BEGIN:DAYLIGHT
DTSTART:20250330T020000
TZOFFSETFROM:+0000
TZOFFSETTO:+0100
TZNAME:BST
END:DAYLIGHT
END:VTIMEZONE
END:VCALENDAR