BEGIN:VCALENDAR
VERSION:2.0
PRODID:-//wp-events-plugin.com//7.2.3.1//EN
TZID:Europe/London
X-WR-TIMEZONE:Europe/London
BEGIN:VEVENT
UID:1275@morayroadrunners.com
DTSTART;TZID=Europe/London:20190907T080000
DTEND;TZID=Europe/London:20190907T150000
DTSTAMP:20190806T165034Z
URL:https://morayroadrunners.com/events/dsuk-race-the-train-2/
SUMMARY:DSUK Race The Train
DESCRIPTION:Information
CATEGORIES:Trail Running
LOCATION:Route 7 Cafe\, Dalfaber Industrial Estate\, Aviemore\, PH22 1ST\, 
 Scotland
GEO:57.20236689999999;-3.819013899999959
X-APPLE-STRUCTURED-LOCATION;VALUE=URI;X-ADDRESS=Dalfaber Industrial Estate\
 , Aviemore\, PH22 1ST\, Scotland;X-APPLE-RADIUS=100;X-TITLE=Route 7 Cafe:g
 eo:57.20236689999999,-3.819013899999959
END:VEVENT
BEGIN:VTIMEZONE
TZID:Europe/London
X-LIC-LOCATION:Europe/London
BEGIN:DAYLIGHT
DTSTART:20190331T020000
TZOFFSETFROM:+0000
TZOFFSETTO:+0100
TZNAME:BST
END:DAYLIGHT
END:VTIMEZONE
END:VCALENDAR