BEGIN:VCALENDAR
VERSION:2.0
PRODID:-//wp-events-plugin.com//7.2.3.1//EN
TZID:Europe/London
X-WR-TIMEZONE:Europe/London
BEGIN:VEVENT
UID:2190@morayroadrunners.com
DTSTART;TZID=Europe/London:20211211T100000
DTEND;TZID=Europe/London:20211211T120000
DTSTAMP:20211109T160433Z
URL:https://morayroadrunners.com/events/dsuk-santa-run/
SUMMARY:DSUK Santa Run
DESCRIPTION:Information and Entry
CATEGORIES:Road Running
LOCATION:Macdonald Aviemore Resort\, Resort\, Aviemore\, PH22 1PN\, Scotlan
 d
X-APPLE-STRUCTURED-LOCATION;VALUE=URI;X-ADDRESS=Resort\, Aviemore\, PH22 1P
 N\, Scotland;X-APPLE-RADIUS=100;X-TITLE=Macdonald Aviemore Resort:geo:0,0
END:VEVENT
BEGIN:VTIMEZONE
TZID:Europe/London
X-LIC-LOCATION:Europe/London
BEGIN:STANDARD
DTSTART:20211031T010000
TZOFFSETFROM:+0100
TZOFFSETTO:+0000
TZNAME:GMT
END:STANDARD
END:VTIMEZONE
END:VCALENDAR