BEGIN:VCALENDAR
VERSION:2.0
PRODID:-//wp-events-plugin.com//7.2.3.1//EN
TZID:Europe/London
X-WR-TIMEZONE:Europe/London
BEGIN:VEVENT
UID:1064@morayroadrunners.com
DTSTART;TZID=Europe/London:20240710T173000
DTEND;TZID=Europe/London:20240710T200000
DTSTAMP:20240617T143255Z
URL:https://morayroadrunners.com/events/dufftown-5-hill-5-mile-run/
SUMMARY:Dufftown 5 Hill/5 Mile Run
DESCRIPTION:Information and Entry
CATEGORIES:Hill Races
LOCATION:Royal British Legion\, Balvenie Street\, Dufftown\, Scotland
GEO:57.44753840000001;-3.1292347999999492
X-APPLE-STRUCTURED-LOCATION;VALUE=URI;X-ADDRESS=Balvenie Street\, Dufftown\
 , Scotland;X-APPLE-RADIUS=100;X-TITLE=Royal British Legion:geo:57.44753840
 000001,-3.1292347999999492
END:VEVENT
BEGIN:VTIMEZONE
TZID:Europe/London
X-LIC-LOCATION:Europe/London
BEGIN:DAYLIGHT
DTSTART:20240331T020000
TZOFFSETFROM:+0000
TZOFFSETTO:+0100
TZNAME:BST
END:DAYLIGHT
END:VTIMEZONE
END:VCALENDAR