BEGIN:VCALENDAR
VERSION:2.0
PRODID:-//wp-events-plugin.com//7.2.3.1//EN
TZID:Europe/London
X-WR-TIMEZONE:Europe/London
BEGIN:VEVENT
UID:1972@morayroadrunners.com
DTSTART;TZID=Europe/London:20210731T120000
DTEND;TZID=Europe/London:20210731T170000
DTSTAMP:20210609T164754Z
URL:https://morayroadrunners.com/events/dufftown-5-tops-hill-race/
SUMMARY:Dufftown 5 Tops Hill Race
DESCRIPTION:Online entry only via Si Entries
CATEGORIES:Hill Races
LOCATION:Dufftown Highland Games\, Mortlach School Field\, Dufftown\, AB55 
 4AP\, Scotland
GEO:57.4445513;-3.1236421999999493
X-APPLE-STRUCTURED-LOCATION;VALUE=URI;X-ADDRESS=Mortlach School Field\, Duf
 ftown\, AB55 4AP\, Scotland;X-APPLE-RADIUS=100;X-TITLE=Dufftown Highland G
 ames:geo:57.4445513,-3.1236421999999493
END:VEVENT
BEGIN:VTIMEZONE
TZID:Europe/London
X-LIC-LOCATION:Europe/London
BEGIN:DAYLIGHT
DTSTART:20210328T020000
TZOFFSETFROM:+0000
TZOFFSETTO:+0100
TZNAME:BST
END:DAYLIGHT
END:VTIMEZONE
END:VCALENDAR