BEGIN:VCALENDAR
VERSION:2.0
PRODID:-//wp-events-plugin.com//7.2.3.1//EN
TZID:Europe/London
X-WR-TIMEZONE:Europe/London
BEGIN:VEVENT
UID:1058@morayroadrunners.com
DTSTART;TZID=Europe/London:20180728T120000
DTEND;TZID=Europe/London:20180728T170000
DTSTAMP:20180521T171604Z
URL:https://morayroadrunners.com/events/dufftwon-5-tops-hill-race/
SUMMARY:Dufftown 5 Tops Hill Race
DESCRIPTION:The Dufftown Five Tops Hill Race will be celebrating its 25th 
 anniversary in 2018 with greater cash prizes to be won!  The race is part
  of Dufftown Highland Games on Sat 28th July and sets off from the Games 
 Park at 12noon.\n\nEntrants must be 18yrs of age to participate in this ev
 ent.\n\nThe race is not for the faint hearted as it covers a round trip of
  14 miles over some very rough terrain.  Athletes make their way to the t
 op of Ben Rinnes taking in the Little Conval and Meikle Conval along the w
 ay and back.  The race is for experienced runners only and even for them 
 it is a challenge!\n\nAll first placed winners will receive a bottle of wh
 isky as well as a cash prize.\n\nThere will be a range of age categories f
 or both male and female with 1st places taking away £50\, 2nd places £
 30 and 3rd places £20.\n\nThe overall male/female winner will win £80\,
  2nd place £50 and 3rd place £30.\n\nFinally the 1st local winner hom
 e will receive £40.\n\nYou simply register on the day to participate in t
 his event.
CATEGORIES:Hill Races
LOCATION:Dufftown Highland Games\, Mortlach School Field\, Dufftown\, AB55 
 4AP\, Scotland
GEO:57.4445513;-3.1236421999999493
X-APPLE-STRUCTURED-LOCATION;VALUE=URI;X-ADDRESS=Mortlach School Field\, Duf
 ftown\, AB55 4AP\, Scotland;X-APPLE-RADIUS=100;X-TITLE=Dufftown Highland G
 ames:geo:57.4445513,-3.1236421999999493
END:VEVENT
BEGIN:VTIMEZONE
TZID:Europe/London
X-LIC-LOCATION:Europe/London
BEGIN:DAYLIGHT
DTSTART:20180325T020000
TZOFFSETFROM:+0000
TZOFFSETTO:+0100
TZNAME:BST
END:DAYLIGHT
END:VTIMEZONE
END:VCALENDAR