BEGIN:VCALENDAR
VERSION:2.0
PRODID:-//wp-events-plugin.com//7.2.3.1//EN
TZID:Europe/London
X-WR-TIMEZONE:Europe/London
BEGIN:VEVENT
UID:4397@morayroadrunners.com
DTSTART;TZID=Europe/London:20260519T180000
DTEND;TZID=Europe/London:20260519T190000
DTSTAMP:20260305T145247Z
URL:https://morayroadrunners.com/events/efforts-1x4min-2x2min-4x1min-1min-
 recover-3min-between-sets-x-2-2/
SUMMARY:Efforts (1x4min\, 2x2min\, 4x1min/1min recover\, 3min between sets)
  x 2
DESCRIPTION:
CATEGORIES:Training
LOCATION:Moray Sports Centre\, Linkwood Rd\, Elgin\, IV30 8AR\, Scotland
X-APPLE-STRUCTURED-LOCATION;VALUE=URI;X-ADDRESS=Linkwood Rd\, Elgin\, IV30 
 8AR\, Scotland;X-APPLE-RADIUS=100;X-TITLE=Moray Sports Centre:geo:0,0
END:VEVENT
BEGIN:VTIMEZONE
TZID:Europe/London
X-LIC-LOCATION:Europe/London
BEGIN:DAYLIGHT
DTSTART:20260329T020000
TZOFFSETFROM:+0000
TZOFFSETTO:+0100
TZNAME:BST
END:DAYLIGHT
END:VTIMEZONE
END:VCALENDAR