BEGIN:VCALENDAR
VERSION:2.0
PRODID:-//wp-events-plugin.com//7.2.3.1//EN
TZID:Europe/London
X-WR-TIMEZONE:Europe/London
BEGIN:VEVENT
UID:1116@morayroadrunners.com
DTSTART;TZID=Europe/London:20180916T090000
DTEND;TZID=Europe/London:20180916T150000
DTSTAMP:20180828T211142Z
URL:https://morayroadrunners.com/events/ellon-road-races/
SUMMARY:Ellon Road Races
DESCRIPTION:Information and Entry
CATEGORIES:Road Running
LOCATION:Victoria Hall\, Station Road\, Ellon\, AB41 9AY\, Scotland
GEO:57.3658079;-2.0815858999999364
X-APPLE-STRUCTURED-LOCATION;VALUE=URI;X-ADDRESS=Station Road\, Ellon\, AB41
  9AY\, Scotland;X-APPLE-RADIUS=100;X-TITLE=Victoria Hall:geo:57.3658079,-2
 .0815858999999364
END:VEVENT
BEGIN:VTIMEZONE
TZID:Europe/London
X-LIC-LOCATION:Europe/London
BEGIN:DAYLIGHT
DTSTART:20180325T020000
TZOFFSETFROM:+0000
TZOFFSETTO:+0100
TZNAME:BST
END:DAYLIGHT
END:VTIMEZONE
END:VCALENDAR