BEGIN:VCALENDAR
VERSION:2.0
PRODID:-//wp-events-plugin.com//7.2.3.1//EN
TZID:Europe/London
X-WR-TIMEZONE:Europe/London
BEGIN:VEVENT
UID:991@morayroadrunners.com
DTSTART;TZID=Europe/London:20240211T100000
DTEND;TZID=Europe/London:20240211T170000
DTSTAMP:20231126T191217Z
URL:https://morayroadrunners.com/events/fetteresso-forest-marathon/
SUMMARY:Fetteresso Forest Marathon
DESCRIPTION:Club Website
CATEGORIES:Trail Running
LOCATION:Hill of three stone entrance\, Fetteresson Forest\, Slug Road\, Ab
 erdeenshire\, Scotland
GEO:56.9935963;-2.3236965999999484
X-APPLE-STRUCTURED-LOCATION;VALUE=URI;X-ADDRESS=Fetteresson Forest\, Slug R
 oad\, Aberdeenshire\, Scotland;X-APPLE-RADIUS=100;X-TITLE=Hill of three st
 one entrance:geo:56.9935963,-2.3236965999999484
END:VEVENT
BEGIN:VTIMEZONE
TZID:Europe/London
X-LIC-LOCATION:Europe/London
BEGIN:STANDARD
DTSTART:20231029T010000
TZOFFSETFROM:+0100
TZOFFSETTO:+0000
TZNAME:GMT
END:STANDARD
END:VTIMEZONE
END:VCALENDAR