BEGIN:VCALENDAR
VERSION:2.0
PRODID:-//wp-events-plugin.com//7.2.3.1//EN
TZID:Europe/London
X-WR-TIMEZONE:Europe/London
BEGIN:VEVENT
UID:1274@morayroadrunners.com
DTSTART;TZID=Europe/London:20200516T060000
DTEND;TZID=Europe/London:20200516T190000
DTSTAMP:20190705T215557Z
URL:https://morayroadrunners.com/events/formartine-buchan-way-ultra/
SUMMARY:Formartine & Buchan way Ultra
DESCRIPTION:A 12 hour ultra from two points\, Point A Auchnagatt village ha
 ll and point B Maud station\, Distance between the two stations is 4.3 mi
 les gained from a GPS watch\, Starting at Auchnagatt hall and running ou
 t to Maud Station and back again for 12 hours\, The route is flat and fast
  all on trail covering the Formartine and Buchan railway\, Excellent for 
 breaking those PB's\, To find out some history from the Formartime &amp\;
  Buchan Railway\n\nInformation
CATEGORIES:Ultra Running
LOCATION:Village Hall\, Auchnagatt\, Ellon\, AB41 8UR\, Scotland
X-APPLE-STRUCTURED-LOCATION;VALUE=URI;X-ADDRESS=Auchnagatt\, Ellon\, AB41 8
 UR\, Scotland;X-APPLE-RADIUS=100;X-TITLE=Village Hall:geo:0,0
END:VEVENT
BEGIN:VTIMEZONE
TZID:Europe/London
X-LIC-LOCATION:Europe/London
BEGIN:DAYLIGHT
DTSTART:20200329T020000
TZOFFSETFROM:+0000
TZOFFSETTO:+0100
TZNAME:BST
END:DAYLIGHT
END:VTIMEZONE
END:VCALENDAR