BEGIN:VCALENDAR
VERSION:2.0
PRODID:-//wp-events-plugin.com//7.2.3.1//EN
TZID:Europe/London
X-WR-TIMEZONE:Europe/London
BEGIN:VEVENT
UID:3192@morayroadrunners.com
DTSTART;TZID=Europe/London:20230513T120000
DTEND;TZID=Europe/London:20230513T160000
DTSTAMP:20230318T180704Z
URL:https://morayroadrunners.com/events/forres-harriers-10k/
SUMMARY:Forres Harriers 10k
DESCRIPTION:Info and Entry
CATEGORIES:Road Running
LOCATION:Benromach Distillery\, Invererne Road\, Forres\, IV36 3EB\, Scotla
 nd
GEO:57.61351459999999;-3.619246299999986
X-APPLE-STRUCTURED-LOCATION;VALUE=URI;X-ADDRESS=Invererne Road\, Forres\, I
 V36 3EB\, Scotland;X-APPLE-RADIUS=100;X-TITLE=Benromach Distillery:geo:57.
 61351459999999,-3.619246299999986
END:VEVENT
BEGIN:VTIMEZONE
TZID:Europe/London
X-LIC-LOCATION:Europe/London
BEGIN:DAYLIGHT
DTSTART:20230326T020000
TZOFFSETFROM:+0000
TZOFFSETTO:+0100
TZNAME:BST
END:DAYLIGHT
END:VTIMEZONE
END:VCALENDAR