BEGIN:VCALENDAR
VERSION:2.0
PRODID:-//wp-events-plugin.com//7.2.3.1//EN
TZID:Europe/London
X-WR-TIMEZONE:Europe/London
BEGIN:VEVENT
UID:1252@morayroadrunners.com
DTSTART;TZID=Europe/London:20190706T133000
DTEND;TZID=Europe/London:20190706T160000
DTSTAMP:20190523T164416Z
URL:https://morayroadrunners.com/events/forres-highland-games-10km-4/
SUMMARY:Forres Highland Games 10km
DESCRIPTION:Information and Entry
CATEGORIES:Road Running
LOCATION:Forres Highland Games\, Grant Park\, Forres\, Scotland
GEO:57.6102838;-3.6056486999999606
X-APPLE-STRUCTURED-LOCATION;VALUE=URI;X-ADDRESS=Grant Park\, Forres\, Scotl
 and;X-APPLE-RADIUS=100;X-TITLE=Forres Highland Games:geo:57.6102838,-3.605
 6486999999606
END:VEVENT
BEGIN:VTIMEZONE
TZID:Europe/London
X-LIC-LOCATION:Europe/London
BEGIN:DAYLIGHT
DTSTART:20190331T020000
TZOFFSETFROM:+0000
TZOFFSETTO:+0100
TZNAME:BST
END:DAYLIGHT
END:VTIMEZONE
END:VCALENDAR