BEGIN:VCALENDAR
VERSION:2.0
PRODID:-//wp-events-plugin.com//7.2.3.1//EN
TZID:Europe/London
X-WR-TIMEZONE:Europe/London
BEGIN:VEVENT
UID:1191@morayroadrunners.com
DTSTART;TZID=Europe/London:20190728T090000
DTEND;TZID=Europe/London:20190728T170000
DTSTAMP:20190102T185027Z
URL:https://morayroadrunners.com/events/fort-william-marathon-2/
SUMMARY:Fort William Marathon
DESCRIPTION:Information
CATEGORIES:Trail Running
LOCATION:Nevis Range\, Torlundy\, Fort William\, PH33 6SQ\, Scotland
GEO:56.8557612;-5.015568300000041
X-APPLE-STRUCTURED-LOCATION;VALUE=URI;X-ADDRESS=Torlundy\, Fort William\, P
 H33 6SQ\, Scotland;X-APPLE-RADIUS=100;X-TITLE=Nevis Range:geo:56.8557612,-
 5.015568300000041
END:VEVENT
BEGIN:VTIMEZONE
TZID:Europe/London
X-LIC-LOCATION:Europe/London
BEGIN:DAYLIGHT
DTSTART:20190331T020000
TZOFFSETFROM:+0000
TZOFFSETTO:+0100
TZNAME:BST
END:DAYLIGHT
END:VTIMEZONE
END:VCALENDAR