BEGIN:VCALENDAR
VERSION:2.0
PRODID:-//wp-events-plugin.com//7.2.3.1//EN
TZID:Europe/London
X-WR-TIMEZONE:Europe/London
BEGIN:VEVENT
UID:2766@morayroadrunners.com
DTSTART;TZID=Europe/London:20241226T093000
DTEND;TZID=Europe/London:20241226T103000
DTSTAMP:20241212T143924Z
URL:https://morayroadrunners.com/events/george-and-carol-training-leggat-h
 ills/
SUMMARY:Training - George and Carol - Efforts
DESCRIPTION:Efforts are:\n\n2 x 600m (2)\n\n4 x 400m (90)\n\n6 x 200m (200 
 jog rec)
CATEGORIES:Training
LOCATION:Morriston Park Track\, Morriston Park\, Elgin\, Scotland
GEO:57.64945400000001;-3.3184850000000097
X-APPLE-STRUCTURED-LOCATION;VALUE=URI;X-ADDRESS=Morriston Park\, Elgin\, Sc
 otland;X-APPLE-RADIUS=100;X-TITLE=Morriston Park Track:geo:57.649454000000
 01,-3.3184850000000097
END:VEVENT
BEGIN:VTIMEZONE
TZID:Europe/London
X-LIC-LOCATION:Europe/London
BEGIN:STANDARD
DTSTART:20241027T010000
TZOFFSETFROM:+0100
TZOFFSETTO:+0000
TZNAME:GMT
END:STANDARD
END:VTIMEZONE
END:VCALENDAR