BEGIN:VCALENDAR
VERSION:2.0
PRODID:-//wp-events-plugin.com//7.2.3.1//EN
TZID:Europe/London
X-WR-TIMEZONE:Europe/London
BEGIN:VEVENT
UID:2417@morayroadrunners.com
DTSTART;TZID=Europe/London:20250608T100000
DTEND;TZID=Europe/London:20250608T140000
DTSTAMP:20240928T212251Z
URL:https://morayroadrunners.com/events/glen-lyon-ultra-2/
SUMMARY:Glen Lyon Trail Race
DESCRIPTION:Information and Entry
CATEGORIES:Trail Running
LOCATION:Pubil\, Glen Lyon\, Perthshire\, PH15 2PX\, Scotland
X-APPLE-STRUCTURED-LOCATION;VALUE=URI;X-ADDRESS=Glen Lyon\, Perthshire\, PH
 15 2PX\, Scotland;X-APPLE-RADIUS=100;X-TITLE=Pubil:geo:0,0
END:VEVENT
BEGIN:VTIMEZONE
TZID:Europe/London
X-LIC-LOCATION:Europe/London
BEGIN:DAYLIGHT
DTSTART:20250330T020000
TZOFFSETFROM:+0000
TZOFFSETTO:+0100
TZNAME:BST
END:DAYLIGHT
END:VTIMEZONE
END:VCALENDAR