BEGIN:VCALENDAR
VERSION:2.0
PRODID:-//wp-events-plugin.com//7.2.3.1//EN
TZID:Europe/London
X-WR-TIMEZONE:Europe/London
BEGIN:VEVENT
UID:2754@morayroadrunners.com
DTSTART;TZID=Europe/London:20231104T080000
DTEND;TZID=Europe/London:20231104T160000
DTSTAMP:20231002T210412Z
URL:https://morayroadrunners.com/events/glen-ogle-33-mile-ultra-3/
SUMMARY:Glen Ogle 33 Mile Ultra
DESCRIPTION:Information
CATEGORIES:Ultra Running
LOCATION:Strathyre\, Callander\, Stirling\, FK18\, Scotland
GEO:56.3197912;-4.280702000000019
X-APPLE-STRUCTURED-LOCATION;VALUE=URI;X-ADDRESS=Callander\, Stirling\, FK18
 \, Scotland;X-APPLE-RADIUS=100;X-TITLE=Strathyre:geo:56.3197912,-4.2807020
 00000019
END:VEVENT
BEGIN:VTIMEZONE
TZID:Europe/London
X-LIC-LOCATION:Europe/London
BEGIN:STANDARD
DTSTART:20231029T010000
TZOFFSETFROM:+0100
TZOFFSETTO:+0000
TZNAME:GMT
END:STANDARD
END:VTIMEZONE
END:VCALENDAR