BEGIN:VCALENDAR
VERSION:2.0
PRODID:-//wp-events-plugin.com//7.2.3.1//EN
TZID:Europe/London
X-WR-TIMEZONE:Europe/London
BEGIN:VEVENT
UID:1468@morayroadrunners.com
DTSTART;TZID=Europe/London:20200517T090000
DTEND;TZID=Europe/London:20200517T140000
DTSTAMP:20200204T212746Z
URL:https://morayroadrunners.com/events/gordon-castle-10km-1st-of-fochaber
 s-triple-challenge-3/
SUMMARY:Gordon Castle 10km (1st of Fochabers triple Challenge)
DESCRIPTION:Information\n\n&nbsp\;\n\n
CATEGORIES:Trail Running
LOCATION:Grdon Castle Highland Games\, Gordon Castle\, Fochbers\, Scotland
GEO:57.60781019999999;-3.094319100000007
X-APPLE-STRUCTURED-LOCATION;VALUE=URI;X-ADDRESS=Gordon Castle\, Fochbers\, 
 Scotland;X-APPLE-RADIUS=100;X-TITLE=Grdon Castle Highland Games:geo:57.607
 81019999999,-3.094319100000007
END:VEVENT
BEGIN:VTIMEZONE
TZID:Europe/London
X-LIC-LOCATION:Europe/London
BEGIN:DAYLIGHT
DTSTART:20200329T020000
TZOFFSETFROM:+0000
TZOFFSETTO:+0100
TZNAME:BST
END:DAYLIGHT
END:VTIMEZONE
END:VCALENDAR