BEGIN:VCALENDAR
VERSION:2.0
PRODID:-//wp-events-plugin.com//7.2.3.1//EN
TZID:Europe/London
X-WR-TIMEZONE:Europe/London
BEGIN:VEVENT
UID:2398@morayroadrunners.com
DTSTART;TZID=Europe/London:20240519T090000
DTEND;TZID=Europe/London:20240519T140000
DTSTAMP:20240319T221527Z
URL:https://morayroadrunners.com/events/gordon-castle-10km-1st-of-fochaber
 s-triple-challenge-4/
SUMMARY:Gordon Castle 10km (1st of Fochabers triple Challenge)
DESCRIPTION:Information and Entry\n\n&nbsp\;\n\n
CATEGORIES:Trail Running
LOCATION:Gordon Castle Highland Games\, Gordon Castle\, Fochabers\, Scotlan
 d
X-APPLE-STRUCTURED-LOCATION;VALUE=URI;X-ADDRESS=Gordon Castle\, Fochabers\,
  Scotland;X-APPLE-RADIUS=100;X-TITLE=Gordon Castle Highland Games:geo:0,0
END:VEVENT
BEGIN:VTIMEZONE
TZID:Europe/London
X-LIC-LOCATION:Europe/London
BEGIN:DAYLIGHT
DTSTART:20240331T020000
TZOFFSETFROM:+0000
TZOFFSETTO:+0100
TZNAME:BST
END:DAYLIGHT
END:VTIMEZONE
END:VCALENDAR