BEGIN:VCALENDAR
VERSION:2.0
PRODID:-//wp-events-plugin.com//7.2.3.1//EN
TZID:Europe/London
X-WR-TIMEZONE:Europe/London
BEGIN:VEVENT
UID:3481@morayroadrunners.com
DTSTART;TZID=Europe/London:20230916T100000
DTEND;TZID=Europe/London:20230916T120000
DTSTAMP:20230629T064718Z
URL:https://morayroadrunners.com/events/grey-mares-5k-trail-race/
SUMMARY:Grey Mare's 5K Trail Race
DESCRIPTION:Information
CATEGORIES:Trail Running
LOCATION:The Ice Factor\, Powerhouse\, Kinlochleven\, PH50 4SF\, Scotland
GEO:56.7128846;-4.9580426999999645
X-APPLE-STRUCTURED-LOCATION;VALUE=URI;X-ADDRESS=Powerhouse\, Kinlochleven\,
  PH50 4SF\, Scotland;X-APPLE-RADIUS=100;X-TITLE=The Ice Factor:geo:56.7128
 846,-4.9580426999999645
END:VEVENT
BEGIN:VTIMEZONE
TZID:Europe/London
X-LIC-LOCATION:Europe/London
BEGIN:DAYLIGHT
DTSTART:20230326T020000
TZOFFSETFROM:+0000
TZOFFSETTO:+0100
TZNAME:BST
END:DAYLIGHT
END:VTIMEZONE
END:VCALENDAR