BEGIN:VCALENDAR
VERSION:2.0
PRODID:-//wp-events-plugin.com//7.2.3.1//EN
TZID:Europe/London
X-WR-TIMEZONE:Europe/London
BEGIN:VEVENT
UID:3696@morayroadrunners.com
DTSTART;TZID=Europe/London:20260829T060000
DTEND;TZID=Europe/London:20260829T180000
DTSTAMP:20251109T214756Z
URL:https://morayroadrunners.com/events/highland-fling-53-mile-ultra/
SUMMARY:Highland Fling 53 Mile Ultra
DESCRIPTION:Information
CATEGORIES:Ultra Running
LOCATION:West Highland Way\, Milngavie\, Glasgow\, G62\, Scotland
GEO:55.943304;-4.31698700000004
X-APPLE-STRUCTURED-LOCATION;VALUE=URI;X-ADDRESS=Milngavie\, Glasgow\, G62\,
  Scotland;X-APPLE-RADIUS=100;X-TITLE=West Highland Way:geo:55.943304,-4.31
 698700000004
END:VEVENT
BEGIN:VTIMEZONE
TZID:Europe/London
X-LIC-LOCATION:Europe/London
BEGIN:DAYLIGHT
DTSTART:20260329T020000
TZOFFSETFROM:+0000
TZOFFSETTO:+0100
TZNAME:BST
END:DAYLIGHT
END:VTIMEZONE
END:VCALENDAR