BEGIN:VCALENDAR
VERSION:2.0
PRODID:-//wp-events-plugin.com//7.2.3.1//EN
TZID:Europe/London
X-WR-TIMEZONE:Europe/London
BEGIN:VEVENT
UID:1192@morayroadrunners.com
DTSTART;TZID=Europe/London:20190907T090000
DTEND;TZID=Europe/London:20190907T170000
DTSTAMP:20190102T185301Z
URL:https://morayroadrunners.com/events/huntly-half-marathon/
SUMMARY:Huntly Half Marathon
DESCRIPTION:Information
CATEGORIES:Road Running
LOCATION:The Gordon Schools\, Castle Street\, Huntly\, AB54 4SE\, Scotland
GEO:57.4485046;-2.7853083999999626
X-APPLE-STRUCTURED-LOCATION;VALUE=URI;X-ADDRESS=Castle Street\, Huntly\, AB
 54 4SE\, Scotland;X-APPLE-RADIUS=100;X-TITLE=The Gordon Schools:geo:57.448
 5046,-2.7853083999999626
END:VEVENT
BEGIN:VTIMEZONE
TZID:Europe/London
X-LIC-LOCATION:Europe/London
BEGIN:DAYLIGHT
DTSTART:20190331T020000
TZOFFSETFROM:+0000
TZOFFSETTO:+0100
TZNAME:BST
END:DAYLIGHT
END:VTIMEZONE
END:VCALENDAR