BEGIN:VCALENDAR
VERSION:2.0
PRODID:-//wp-events-plugin.com//7.2.3.1//EN
TZID:Europe/London
X-WR-TIMEZONE:Europe/London
BEGIN:VEVENT
UID:1863@morayroadrunners.com
DTSTART;TZID=Europe/London:20240907T090000
DTEND;TZID=Europe/London:20240907T130000
DTSTAMP:20240603T204407Z
URL:https://morayroadrunners.com/events/huntly-room-to-run-races-4/
SUMMARY:Huntly Room to Run Races
DESCRIPTION:Information and Entry
CATEGORIES:Trail Running
LOCATION:The Gordon Schools\, Castle Street\, Huntly\, AB54 4SE\, Scotland
GEO:57.4485046;-2.7853083999999626
X-APPLE-STRUCTURED-LOCATION;VALUE=URI;X-ADDRESS=Castle Street\, Huntly\, AB
 54 4SE\, Scotland;X-APPLE-RADIUS=100;X-TITLE=The Gordon Schools:geo:57.448
 5046,-2.7853083999999626
END:VEVENT
BEGIN:VTIMEZONE
TZID:Europe/London
X-LIC-LOCATION:Europe/London
BEGIN:DAYLIGHT
DTSTART:20240331T020000
TZOFFSETFROM:+0000
TZOFFSETTO:+0100
TZNAME:BST
END:DAYLIGHT
END:VTIMEZONE
END:VCALENDAR