BEGIN:VCALENDAR
VERSION:2.0
PRODID:-//wp-events-plugin.com//7.2.3.1//EN
TZID:Europe/London
X-WR-TIMEZONE:Europe/London
BEGIN:VEVENT
UID:716@morayroadrunners.com
DTSTART;TZID=Europe/London:20171028T180000
DTEND;TZID=Europe/London:20171028T220000
DTSTAMP:20170106T222912Z
URL:https://morayroadrunners.com/events/illuminator-half-marathon-2/
SUMMARY:Illuminator Half Marathon +
DESCRIPTION:Information
CATEGORIES:Hill Races
LOCATION:Aboyne Community Centre\, Bridgeview Road\, Aboyne\, AB34 5JN\, Un
 ited Kingdom
GEO:57.0718806;-2.7895023999999466
X-APPLE-STRUCTURED-LOCATION;VALUE=URI;X-ADDRESS=Bridgeview Road\, Aboyne\, 
 AB34 5JN\, United Kingdom;X-APPLE-RADIUS=100;X-TITLE=Aboyne Community Cent
 re:geo:57.0718806,-2.7895023999999466
END:VEVENT
BEGIN:VTIMEZONE
TZID:Europe/London
X-LIC-LOCATION:Europe/London
BEGIN:DAYLIGHT
DTSTART:20170326T020000
TZOFFSETFROM:+0000
TZOFFSETTO:+0100
TZNAME:BST
END:DAYLIGHT
END:VTIMEZONE
END:VCALENDAR