BEGIN:VCALENDAR
VERSION:2.0
PRODID:-//wp-events-plugin.com//7.2.3.1//EN
TZID:Europe/London
X-WR-TIMEZONE:Europe/London
BEGIN:VEVENT
UID:949@morayroadrunners.com
DTSTART;TZID=Europe/London:20180225T090000
DTEND;TZID=Europe/London:20180225T130000
DTSTAMP:20171128T203606Z
URL:https://morayroadrunners.com/events/indoor-open-graded-3/
SUMMARY:Indoor Open Graded
DESCRIPTION:Information
CATEGORIES:Track and Field
LOCATION:Aberdeen Sports Village\, Linksfield Road\, Aberdeen\, AB24 5RU\, 
 Scotland
GEO:57.1614878;-2.094857700000034
X-APPLE-STRUCTURED-LOCATION;VALUE=URI;X-ADDRESS=Linksfield Road\, Aberdeen\
 , AB24 5RU\, Scotland;X-APPLE-RADIUS=100;X-TITLE=Aberdeen Sports Village:g
 eo:57.1614878,-2.094857700000034
END:VEVENT
BEGIN:VTIMEZONE
TZID:Europe/London
X-LIC-LOCATION:Europe/London
BEGIN:STANDARD
DTSTART:20171029T010000
TZOFFSETFROM:+0100
TZOFFSETTO:+0000
TZNAME:GMT
END:STANDARD
END:VTIMEZONE
END:VCALENDAR