BEGIN:VCALENDAR
VERSION:2.0
PRODID:-//wp-events-plugin.com//7.2.3.1//EN
TZID:Europe/London
X-WR-TIMEZONE:Europe/London
BEGIN:VEVENT
UID:2773@morayroadrunners.com
DTSTART;TZID=Europe/London:20230514T100000
DTEND;TZID=Europe/London:20230514T130000
DTSTAMP:20230210T221052Z
URL:https://morayroadrunners.com/events/inverness-10k/
SUMMARY:Inverness 10k & 5k - Race for Life
DESCRIPTION:Information and Entry
CATEGORIES:Road Running
LOCATION:Bught Park\, Bught Stadium\, Inverness\, IV3 5SS\, Scotland
X-APPLE-STRUCTURED-LOCATION;VALUE=URI;X-ADDRESS=Bught Stadium\, Inverness\,
  IV3 5SS\, Scotland;X-APPLE-RADIUS=100;X-TITLE=Bught Park:geo:0,0
END:VEVENT
BEGIN:VTIMEZONE
TZID:Europe/London
X-LIC-LOCATION:Europe/London
BEGIN:DAYLIGHT
DTSTART:20230326T020000
TZOFFSETFROM:+0000
TZOFFSETTO:+0100
TZNAME:BST
END:DAYLIGHT
END:VTIMEZONE
END:VCALENDAR