BEGIN:VCALENDAR
VERSION:2.0
PRODID:-//wp-events-plugin.com//7.2.3.1//EN
TZID:Europe/London
X-WR-TIMEZONE:Europe/London
BEGIN:VEVENT
UID:3216@morayroadrunners.com
DTSTART;TZID=Europe/London:20230721T173000
DTEND;TZID=Europe/London:20230721T210000
DTSTAMP:20230508T140216Z
URL:https://morayroadrunners.com/events/inverness-campus-5k-road-races-2/
SUMMARY:Inverness Campus 5k Road Races
DESCRIPTION:Information and Entry
CATEGORIES:Road Running
LOCATION:Inverness Campus\, 1 Inverness Campus\, Inverness\, IV2 5NA\, Scot
 land
X-APPLE-STRUCTURED-LOCATION;VALUE=URI;X-ADDRESS=1 Inverness Campus\, Invern
 ess\, IV2 5NA\, Scotland;X-APPLE-RADIUS=100;X-TITLE=Inverness Campus:geo:0
 ,0
END:VEVENT
BEGIN:VTIMEZONE
TZID:Europe/London
X-LIC-LOCATION:Europe/London
BEGIN:DAYLIGHT
DTSTART:20230326T020000
TZOFFSETFROM:+0000
TZOFFSETTO:+0100
TZNAME:BST
END:DAYLIGHT
END:VTIMEZONE
END:VCALENDAR