BEGIN:VCALENDAR
VERSION:2.0
PRODID:-//wp-events-plugin.com//7.2.3.1//EN
TZID:Europe/London
X-WR-TIMEZONE:Europe/London
BEGIN:VEVENT
UID:989@morayroadrunners.com
DTSTART;TZID=Europe/London:20180722T131500
DTEND;TZID=Europe/London:20180722T161500
DTSTAMP:20180120T073843Z
URL:https://morayroadrunners.com/events/jean-carr-hill-race-2nd-of-fochabe
 rs-triple-challenge-2/
SUMMARY:Jean Carr Hill Race (2nd of Fochabers Triple Challenge)
DESCRIPTION:Spey Runners are proud to host the return of the Jean Carr race
  as part of the 2018 Fochabers Gala. This 5.5 mile race starts at Fochaber
 s Square\, routes through the woods at Ordiequish\, and past the legendary
  Jean Carr Stone.\nRace starts 13:15\, registration 11:00-12:30
CATEGORIES:Hill Races
LOCATION:The Square\, Fochabers\, Fochabers\, Moray\, IV32 7DF\, Scotland
GEO:57.6145321;-3.0969629999999597
X-APPLE-STRUCTURED-LOCATION;VALUE=URI;X-ADDRESS=Fochabers\, Fochabers\, Mor
 ay\, IV32 7DF\, Scotland;X-APPLE-RADIUS=100;X-TITLE=The Square:geo:57.6145
 321,-3.0969629999999597
END:VEVENT
BEGIN:VTIMEZONE
TZID:Europe/London
X-LIC-LOCATION:Europe/London
BEGIN:DAYLIGHT
DTSTART:20180325T020000
TZOFFSETFROM:+0000
TZOFFSETTO:+0100
TZNAME:BST
END:DAYLIGHT
END:VTIMEZONE
END:VCALENDAR