BEGIN:VCALENDAR
VERSION:2.0
PRODID:-//wp-events-plugin.com//7.2.3.1//EN
TZID:Europe/London
X-WR-TIMEZONE:Europe/London
BEGIN:VEVENT
UID:725@morayroadrunners.com
DTSTART;TZID=Europe/London:20170826T120000
DTEND;TZID=Europe/London:20170826T170000
DTSTAMP:20170126T175108Z
URL:https://morayroadrunners.com/events/killin-10km-and-family-fun-run-2/
SUMMARY:Killin 10km and Family Fun Run
DESCRIPTION:Information
CATEGORIES:Road Running
LOCATION:Event HQ\, McLaren Hall\, Killin\, Scotland
GEO:56.46934599999999;-4.319210999999996
X-APPLE-STRUCTURED-LOCATION;VALUE=URI;X-ADDRESS=McLaren Hall\, Killin\, Sco
 tland;X-APPLE-RADIUS=100;X-TITLE=Event HQ:geo:56.46934599999999,-4.3192109
 99999996
END:VEVENT
BEGIN:VTIMEZONE
TZID:Europe/London
X-LIC-LOCATION:Europe/London
BEGIN:DAYLIGHT
DTSTART:20170326T020000
TZOFFSETFROM:+0000
TZOFFSETTO:+0100
TZNAME:BST
END:DAYLIGHT
END:VTIMEZONE
END:VCALENDAR