BEGIN:VCALENDAR
VERSION:2.0
PRODID:-//wp-events-plugin.com//7.2.3.1//EN
TZID:Europe/London
X-WR-TIMEZONE:Europe/London
BEGIN:VEVENT
UID:3198@morayroadrunners.com
DTSTART;TZID=Europe/London:20231015T101500
DTEND;TZID=Europe/London:20231015T150000
DTSTAMP:20230403T135706Z
URL:https://morayroadrunners.com/events/kinord-10k/
SUMMARY:Kinord 10k
DESCRIPTION:Entry and Information
CATEGORIES:Road Running
LOCATION:Kinord Hall\, Dinnet\, Dinnet\, AB34 5LW\, Scotland
X-APPLE-STRUCTURED-LOCATION;VALUE=URI;X-ADDRESS=Dinnet\, Dinnet\, AB34 5LW\
 , Scotland;X-APPLE-RADIUS=100;X-TITLE=Kinord Hall:geo:0,0
END:VEVENT
BEGIN:VTIMEZONE
TZID:Europe/London
X-LIC-LOCATION:Europe/London
BEGIN:DAYLIGHT
DTSTART:20230326T020000
TZOFFSETFROM:+0000
TZOFFSETTO:+0100
TZNAME:BST
END:DAYLIGHT
END:VTIMEZONE
END:VCALENDAR