BEGIN:VCALENDAR
VERSION:2.0
PRODID:-//wp-events-plugin.com//7.2.3.1//EN
TZID:Europe/London
X-WR-TIMEZONE:Europe/London
BEGIN:VEVENT
UID:2777@morayroadrunners.com
DTSTART;TZID=Europe/London;VALUE=DATE:20260523
DTEND;TZID=Europe/London;VALUE=DATE:20260524
DTSTAMP:20260302T221445Z
URL:https://morayroadrunners.com/events/kirkhill-8/
SUMMARY:Kirkhill 8
DESCRIPTION:Information and Entry
CATEGORIES:Ultra Running
LOCATION:Kirkhill Forest\, A96\, Dyce\, AB21 0TU\, Scotland
X-APPLE-STRUCTURED-LOCATION;VALUE=URI;X-ADDRESS=A96\, Dyce\, AB21 0TU\, Sco
 tland;X-APPLE-RADIUS=100;X-TITLE=Kirkhill Forest:geo:0,0
END:VEVENT
BEGIN:VTIMEZONE
TZID:Europe/London
X-LIC-LOCATION:Europe/London
BEGIN:DAYLIGHT
DTSTART:20260329T020000
TZOFFSETFROM:+0000
TZOFFSETTO:+0100
TZNAME:BST
END:DAYLIGHT
END:VTIMEZONE
END:VCALENDAR