BEGIN:VCALENDAR
VERSION:2.0
PRODID:-//wp-events-plugin.com//7.2.3.1//EN
TZID:Europe/London
X-WR-TIMEZONE:Europe/London
BEGIN:VEVENT
UID:2702@morayroadrunners.com
DTSTART;TZID=Europe/London:20261107T130000
DTEND;TZID=Europe/London:20261107T170000
DTSTAMP:20260120T215629Z
URL:https://morayroadrunners.com/events/knockfarrell-hill-race-4/
SUMMARY:Knockfarrell Hill Race
DESCRIPTION:Information and Entry
CATEGORIES:Hill Races
LOCATION:Strathpeffer Community Centre\, School Road\, Strathpeffer\, IV14 
 9AG\, Scotland
GEO:57.58580329999999;-4.543860499999937
X-APPLE-STRUCTURED-LOCATION;VALUE=URI;X-ADDRESS=School Road\, Strathpeffer\
 , IV14 9AG\, Scotland;X-APPLE-RADIUS=100;X-TITLE=Strathpeffer Community Ce
 ntre:geo:57.58580329999999,-4.543860499999937
END:VEVENT
BEGIN:VTIMEZONE
TZID:Europe/London
X-LIC-LOCATION:Europe/London
BEGIN:STANDARD
DTSTART:20261025T010000
TZOFFSETFROM:+0100
TZOFFSETTO:+0000
TZNAME:GMT
END:STANDARD
END:VTIMEZONE
END:VCALENDAR