BEGIN:VCALENDAR
VERSION:2.0
PRODID:-//wp-events-plugin.com//7.2.3.1//EN
TZID:Europe/London
X-WR-TIMEZONE:Europe/London
BEGIN:VEVENT
UID:1123@morayroadrunners.com
DTSTART;TZID=Europe/London:20181027T160000
DTEND;TZID=Europe/London:20181027T160000
DTSTAMP:20181002T171823Z
URL:https://morayroadrunners.com/events/lindsays-scottishathletics-nationa
 l-cross-country-relay-championships/
SUMMARY:Lindsays' scottishathletics National Cross Country Relay Championsh
 ips
DESCRIPTION:Information
CATEGORIES:Cross Country
LOCATION:Cumberbauld House Park\, Cumbernauld\, Glasgow\, G67 3JG\, Scotlan
 d
GEO:55.9604049;-3.967831799999999
X-APPLE-STRUCTURED-LOCATION;VALUE=URI;X-ADDRESS=Cumbernauld\, Glasgow\, G67
  3JG\, Scotland;X-APPLE-RADIUS=100;X-TITLE=Cumberbauld House Park:geo:55.9
 604049,-3.967831799999999
END:VEVENT
BEGIN:VTIMEZONE
TZID:Europe/London
X-LIC-LOCATION:Europe/London
BEGIN:DAYLIGHT
DTSTART:20180325T020000
TZOFFSETFROM:+0000
TZOFFSETTO:+0100
TZNAME:BST
END:DAYLIGHT
END:VTIMEZONE
END:VCALENDAR