BEGIN:VCALENDAR
VERSION:2.0
PRODID:-//wp-events-plugin.com//7.2.3.1//EN
TZID:Europe/London
X-WR-TIMEZONE:Europe/London
BEGIN:VEVENT
UID:2755@morayroadrunners.com
DTSTART;TZID=Europe/London;VALUE=DATE:20221203
DTEND;TZID=Europe/London;VALUE=DATE:20221204
DTSTAMP:20221204T145433Z
URL:https://morayroadrunners.com/events/lindsays-scottishathletics-north-d
 istrict-cross-country-championships-2/
SUMMARY:Lindsays scottishathletics North District Cross Country Championshi
 ps
DESCRIPTION:Information and Entry
CATEGORIES:Cross Country
LOCATION:Gordonstoun School\, Duffus\, Elgin\, IV30 5RF\, Scotland
GEO:57.70312550000001;-3.370358699999997
X-APPLE-STRUCTURED-LOCATION;VALUE=URI;X-ADDRESS=Duffus\, Elgin\, IV30 5RF\,
  Scotland;X-APPLE-RADIUS=100;X-TITLE=Gordonstoun School:geo:57.70312550000
 001,-3.370358699999997
END:VEVENT
BEGIN:VTIMEZONE
TZID:Europe/London
X-LIC-LOCATION:Europe/London
BEGIN:STANDARD
DTSTART:20221030T010000
TZOFFSETFROM:+0100
TZOFFSETTO:+0000
TZNAME:GMT
END:STANDARD
END:VTIMEZONE
END:VCALENDAR