BEGIN:VCALENDAR
VERSION:2.0
PRODID:-//wp-events-plugin.com//7.2.3.1//EN
TZID:Europe/London
X-WR-TIMEZONE:Europe/London
BEGIN:VEVENT
UID:2753@morayroadrunners.com
DTSTART;TZID=Europe/London;VALUE=DATE:20221022
DTEND;TZID=Europe/London;VALUE=DATE:20221023
DTSTAMP:20221007T140150Z
URL:https://morayroadrunners.com/events/lindsays-scottishathletics-north-d
 istrict-cross-country-relay-championships/
SUMMARY:Lindsays scottishathletics North District Cross Country Relay Champ
 ionships
DESCRIPTION:Information and Entry
CATEGORIES:Cross Country
LOCATION:Cumbernauld House Park\, Wilderness Brae\, Cumbernauld\, G67 2\, S
 cotland
X-APPLE-STRUCTURED-LOCATION;VALUE=URI;X-ADDRESS=Wilderness Brae\, Cumbernau
 ld\, G67 2\, Scotland;X-APPLE-RADIUS=100;X-TITLE=Cumbernauld House Park:ge
 o:0,0
END:VEVENT
BEGIN:VTIMEZONE
TZID:Europe/London
X-LIC-LOCATION:Europe/London
BEGIN:DAYLIGHT
DTSTART:20220327T020000
TZOFFSETFROM:+0000
TZOFFSETTO:+0100
TZNAME:BST
END:DAYLIGHT
END:VTIMEZONE
END:VCALENDAR