BEGIN:VCALENDAR
VERSION:2.0
PRODID:-//wp-events-plugin.com//7.2.3.1//EN
TZID:Europe/London
X-WR-TIMEZONE:Europe/London
BEGIN:VEVENT
UID:1865@morayroadrunners.com
DTSTART;TZID=Europe/London:20240106T090000
DTEND;TZID=Europe/London:20240106T140000
DTSTAMP:20231002T210924Z
URL:https://morayroadrunners.com/events/loch-morlich-10k-5k/
SUMMARY:Loch Morlich 10k & 5k
DESCRIPTION:Information and Entry
CATEGORIES:Trail Running
LOCATION:Hayfield Car Park\, Glenmore\, Aviemore\, PH22 1QU\, Scotland
GEO:57.165829;-3.695997000000034
X-APPLE-STRUCTURED-LOCATION;VALUE=URI;X-ADDRESS=Glenmore\, Aviemore\, PH22 
 1QU\, Scotland;X-APPLE-RADIUS=100;X-TITLE=Hayfield Car Park:geo:57.165829,
 -3.695997000000034
END:VEVENT
BEGIN:VTIMEZONE
TZID:Europe/London
X-LIC-LOCATION:Europe/London
BEGIN:STANDARD
DTSTART:20231029T010000
TZOFFSETFROM:+0100
TZOFFSETTO:+0000
TZNAME:GMT
END:STANDARD
END:VTIMEZONE
END:VCALENDAR